BEGIN:VCALENDAR
VERSION:2.0
PRODID:-//Birch Cove - ECPv6.15.20//NONSGML v1.0//EN
CALSCALE:GREGORIAN
METHOD:PUBLISH
X-WR-CALNAME:Birch Cove
X-ORIGINAL-URL:https://birchcove.ca
X-WR-CALDESC:Events for Birch Cove
REFRESH-INTERVAL;VALUE=DURATION:PT1H
X-Robots-Tag:noindex
X-PUBLISHED-TTL:PT1H
BEGIN:VTIMEZONE
TZID:America/Edmonton
BEGIN:DAYLIGHT
TZOFFSETFROM:-0700
TZOFFSETTO:-0600
TZNAME:MDT
DTSTART:20230312T090000
END:DAYLIGHT
BEGIN:STANDARD
TZOFFSETFROM:-0600
TZOFFSETTO:-0700
TZNAME:MST
DTSTART:20231105T080000
END:STANDARD
BEGIN:DAYLIGHT
TZOFFSETFROM:-0700
TZOFFSETTO:-0600
TZNAME:MDT
DTSTART:20240310T090000
END:DAYLIGHT
BEGIN:STANDARD
TZOFFSETFROM:-0600
TZOFFSETTO:-0700
TZNAME:MST
DTSTART:20241103T080000
END:STANDARD
BEGIN:DAYLIGHT
TZOFFSETFROM:-0700
TZOFFSETTO:-0600
TZNAME:MDT
DTSTART:20250309T090000
END:DAYLIGHT
BEGIN:STANDARD
TZOFFSETFROM:-0600
TZOFFSETTO:-0700
TZNAME:MST
DTSTART:20251102T080000
END:STANDARD
END:VTIMEZONE
BEGIN:VEVENT
DTSTART;VALUE=DATE:20240518
DTEND;VALUE=DATE:20240521
DTSTAMP:20260421T065840
CREATED:20240410T211037Z
LAST-MODIFIED:20240501T214755Z
UID:2535-1715990400-1716249599@birchcove.ca
SUMMARY:Village Spring Clean-Up
DESCRIPTION:“VILLAGE SPRING CLEAN UP – please be advised that spring clean-up in the Village is scheduled for the long weekend in May (18th – 20th); there will be a large dump bin for residential use (i.e. branches\, bagged leaves etc; not mattresses\, appliances etc.).  Thank you.”
URL:https://birchcove.ca/event/village-spring-clean-up/
LOCATION:Alberta
END:VEVENT
END:VCALENDAR